BEGIN:VCALENDAR
VERSION:2.0
PRODID:-//ChamberMaster//Event Calendar 2.0//EN
METHOD:PUBLISH
X-PUBLISHED-TTL:P3D
REFRESH-INTERVAL:P3D
CALSCALE:GREGORIAN
BEGIN:VEVENT
DTSTART;VALUE=DATE:20260109
DTEND;VALUE=DATE:20260223
TRANSP:TRANSPARENT
X-MICROSOFT-CDO-ALLDAYEVENT:TRUE
SUMMARY:Cedar Creek CUPful Event
DESCRIPTION:Our annual CUPful event is almost here! The excitement of the holidays will ramp down in December\, but then you have this riveting collection to look forward to in January. Over 500 mugs will be for sale by over 50 artists - mugs of different shapes\, sizes\, styles\, and colors will fill the front room of the gallery. This is a dynamic show offered only in the gallery\, and mugs go home with collectors quickly.
X-ALT-DESC;FMTTYPE=text/html:<span style="color: rgb(8\, 8\, 9)\; font-family: &quot\;Segoe UI Historic&quot\;\, &quot\;Segoe UI&quot\;\, Helvetica\, Arial\, sans-serif\; font-size: 15px\; white-space-collapse: preserve\; background-color: rgb(255\, 255\, 255)\;">Our annual CUPful event is almost here! The excitement of the holidays will ramp down in December\, but then you have this riveting collection to look forward to in </span><span style="color: rgb(8\, 8\, 9)\; font-family: &quot\;Segoe UI Historic&quot\;\, &quot\;Segoe UI&quot\;\, Helvetica\, Arial\, sans-serif\; font-size: 15px\; white-space-collapse: preserve\; background-color: rgb(255\, 255\, 255)\;">January. Over 500 mugs will be for sale by over 50 artists - mugs of different shapes\, sizes\, styles\, and colors will fill the front room of the gallery. This is a dynamic show offered only in the gallery\, and mugs go home with collectors quickly. </span>
LOCATION:1150 Fleming Rd Creedmoor\, NC 27522
UID:e.3107.5838
SEQUENCE:3
DTSTAMP:20260421T151835Z
URL:http://members.granville-chamber.com/events/details/cedar-creek-cupful-event-5838
END:VEVENT

END:VCALENDAR
