BEGIN:VCALENDAR
VERSION:2.0
PRODID:-//ChamberMaster//Event Calendar 2.0//EN
METHOD:PUBLISH
X-PUBLISHED-TTL:P3D
REFRESH-INTERVAL:P3D
CALSCALE:GREGORIAN
BEGIN:VEVENT
DTSTART:20230321T143000Z
DTEND:20230321T170000Z
X-MICROSOFT-CDO-ALLDAYEVENT:FALSE
SUMMARY:Email Marketing for Your Business
DESCRIPTION:Email marketing has a 90% deliverability rate and an average of 38x ROI. Done right\, it can really drive sales and brand awareness for your small business. This seminar will help you avoid common mistakes and maximize your emails for powerful impact! Sponsored by Pitt Community College Small Business Center. Register HERE
X-ALT-DESC;FMTTYPE=text/html:<span style="color:rgb(20\, 24\, 39)\; font-family:helvetica neue\,helvetica\,-apple-system\,blinkmacsystemfont\,roboto\,arial\,sans-serif\; font-size:18px">Email marketing has a 90% deliverability rate and an average of 38x ROI. Done right\, it can really drive sales and brand awareness for your small business. This seminar will help you avoid common mistakes and maximize your emails for powerful impact! Sponsored by Pitt Community College Small Business Center. Register <strong><a href="https://www.ncsbc.net/workshop.aspx?ekey=380430005">HERE</a></strong></span>
LOCATION:Online
UID:e.3107.4786
SEQUENCE:3
DTSTAMP:20260424T181557Z
URL:http://members.granville-chamber.com/events/details/email-marketing-for-your-business-4786
END:VEVENT

END:VCALENDAR
