BEGIN:VCALENDAR
VERSION:2.0
PRODID:-//ChamberMaster//Event Calendar 2.0//EN
METHOD:PUBLISH
X-PUBLISHED-TTL:P3D
REFRESH-INTERVAL:P3D
CALSCALE:GREGORIAN
BEGIN:VEVENT
DTSTART:20250823T150000Z
DTEND:20250823T220000Z
X-MICROSOFT-CDO-ALLDAYEVENT:FALSE
SUMMARY:3rd Annual Way To GROW! Festival
DESCRIPTION:Now in its 3rd year\, Way to GROW! Week and Festival returns with a bold new focus: moving Henderson forward by investing in what makes us GROW!\n\n\n\nWe're celebrating our incredible community\, passionate entrepreneurs\, and generous sponsors thank you for your continued support!\n\nThis year\, we're evolving.\n\nThe festival isn't just fun (though there's plenty of that!) it's also a celebration of economic development as the powerful blend of social capital\, economic capital\, and cultural capital.\n\n \n\nThese themes will shine throughout the week in engaging\, city-wide events designed to inspire\, connect\, and GROW!\n\n\n\nJoin us as we turn up the energy\, spotlight our talent\, and keep building a vibrant future for the City of Henderson and Vance County\, North Carolina!\n\n\n\nVolunteers NEEDED!  Please contact Heather Yencarelli : community@thegatewaycdc.org
X-ALT-DESC;FMTTYPE=text/html:<div>\n<h3 style="text-align:center !important"><span style="color:rgb(0\, 0\, 0)\; font-family:fjalla one\,fjalla one fallback\; font-size:13px">Now in its 3rd year\, Way to GROW! Week and Festival returns with a bold new focus: moving Henderson forward by investing in what makes us GROW!</span></h3>\n</div>\n\n<div>\n<p style="text-align:center !important"><span style="color:rgb(0\, 0\, 0)\; font-family:fjalla one\,fjalla one fallback">We&rsquo\;re celebrating our incredible community\, passionate entrepreneurs\, and generous sponsors&mdash\;thank you for your continued support!</span></p>\n\n<p style="text-align:center !important"><span style="color:#000000"><span style="font-family:fjalla one\,fjalla one fallback">This year\, we&rsquo\;re evolving.</span></span></p>\n\n<p style="text-align:center !important"><span style="color:rgb(0\, 0\, 0)\; font-family:fjalla one\,fjalla one fallback">The festival isn&rsquo\;t just fun (though there&rsquo\;s plenty of that!)&mdash\;it&rsquo\;s also a celebration of economic development as the powerful blend of social capital\, economic capital\, and cultural capital.</span></p>\n\n<p style="text-align:center !important">&nbsp\;</p>\n\n<p style="text-align:center !important"><span style="color:#000000"><span style="font-family:fjalla one\,fjalla one fallback">These themes will shine throughout the week in engaging\, city-wide events designed to inspire\, connect\, and GROW!</span></span></p>\n\n<p style="text-align:center !important"><br />\n<span style="color:#000000"><span style="font-family:fjalla one\,fjalla one fallback">Join us as we turn up the energy\, spotlight our talent\, and keep building a vibrant future for the City of Henderson and Vance County\, North Carolina!<br />\n<br />\nVolunteers NEEDED!&nbsp\; Please contact Heather Yencarelli : community@thegatewaycdc.org</span></span></p>\n</div>\n
LOCATION:Garnett St. in Henderson\, NC\, between Orange Street and Montgomery St.
UID:e.3107.5768
SEQUENCE:3
DTSTAMP:20260419T220332Z
URL:https://members.granville-chamber.com/events/details/3rd-annual-way-to-grow-festival-5768
END:VEVENT

END:VCALENDAR
