BEGIN:VCALENDAR
VERSION:2.0
PRODID:-//ChamberMaster//Event Calendar 2.0//EN
METHOD:PUBLISH
X-PUBLISHED-TTL:P3D
REFRESH-INTERVAL:P3D
CALSCALE:GREGORIAN
BEGIN:VEVENT
DTSTART:20190518T170000Z
DTEND:20190518T210000Z
X-MICROSOFT-CDO-ALLDAYEVENT:FALSE
SUMMARY:ARTSCAPE - sponsored by National Mary Potter Club
DESCRIPTION:Fun afternoon listening to Jazz and a variety of music.  Open mic for songs and spoken words\, plus paint a picture of your choice. (Canvas\, paint and brushes - $5 Adults\, $2.50 children) Refreshments and more!
X-ALT-DESC;FMTTYPE=text/html:Fun afternoon listening to Jazz and a variety of music.&nbsp\; Open mic for songs and spoken words\, plus paint a picture of your choice. (Canvas\, paint and brushes - $5 Adults\, $2.50 children) Refreshments and more!
LOCATION:George C. Shaw Museum (Lawn) 202 E. McClanahan St. Oxford\, N.C. 27565
UID:e.3107.2120
SEQUENCE:3
DTSTAMP:20260419T122937Z
URL:https://members.granville-chamber.com/events/details/artscape-sponsored-by-national-mary-potter-club-2120
END:VEVENT

END:VCALENDAR
