BEGIN:VCALENDAR
VERSION:2.0
PRODID:-//ChamberMaster//Event Calendar 2.0//EN
METHOD:PUBLISH
X-PUBLISHED-TTL:P3D
REFRESH-INTERVAL:P3D
CALSCALE:GREGORIAN
BEGIN:VEVENT
DTSTART:20240422T230000Z
DTEND:20240423T010000Z
X-MICROSOFT-CDO-ALLDAYEVENT:FALSE
SUMMARY:Granville Gardeners April General Meeting
DESCRIPTION:Join us at 7 pm for our program\, "Prairie to Table" by Kathy Schlosser. Refreshments will be served after the meeting.
X-ALT-DESC;FMTTYPE=text/html:Join us at 7 pm for our program\, &quot\;Prairie to Table&quot\; by Kathy Schlosser. Refreshments will be served after the meeting.
LOCATION:Granville County Expo Center\, 4185 Hwy 15\, Oxford\, NC
UID:e.3107.5076
SEQUENCE:3
DTSTAMP:20260420T040333Z
URL:https://members.granville-chamber.com/events/details/granville-gardeners-april-general-meeting-04-22-2024-5076
END:VEVENT

END:VCALENDAR
