BEGIN:VCALENDAR
VERSION:2.0
PRODID:-//ChamberMaster//Event Calendar 2.0//EN
METHOD:PUBLISH
X-PUBLISHED-TTL:P3D
REFRESH-INTERVAL:P3D
CALSCALE:GREGORIAN
BEGIN:VEVENT
DTSTART:20240427T130000Z
DTEND:20240427T190000Z
X-MICROSOFT-CDO-ALLDAYEVENT:FALSE
SUMMARY:Granville Gardeners Expo: Home\, Garden\, Decor
DESCRIPTION:Granville Gardeners Home\, Garden\, and Decor Expo is a free event held annually at the Granville County Expo Center on Hwy 15 in Oxford. There will be over 80 vendors offering a wide variety of items. Food trucks will offer plenty of tasty foods to enjoy between shopping and attending some great garden related programs in the auditorium.
X-ALT-DESC;FMTTYPE=text/html:Granville Gardeners Home\, Garden\, and Decor Expo is a free event held annually at the Granville County Expo Center on Hwy 15 in Oxford. There will be over 80 vendors offering a wide variety of items. Food trucks will offer plenty of tasty foods to enjoy between shopping and attending some great garden related programs in the auditorium.
LOCATION:Granville County Expo Center \, 4185 Hwy 15\, Oxford\, NC 27565
UID:e.3107.5075
SEQUENCE:3
DTSTAMP:20260420T040517Z
URL:https://members.granville-chamber.com/events/details/granville-gardeners-expo-home-garden-decor-04-27-2024-5075
END:VEVENT

END:VCALENDAR
