BEGIN:VCALENDAR
VERSION:2.0
PRODID:-//ChamberMaster//Event Calendar 2.0//EN
METHOD:PUBLISH
X-PUBLISHED-TTL:P3D
REFRESH-INTERVAL:P3D
CALSCALE:GREGORIAN
BEGIN:VEVENT
DTSTART;VALUE=DATE:20240404
DTEND;VALUE=DATE:20240405
TRANSP:TRANSPARENT
X-MICROSOFT-CDO-ALLDAYEVENT:TRUE
SUMMARY:The EntrepreneuVate Summit
DESCRIPTION:Unlock Your Business Potential with Our Strategic Growth Consultation!\n\nJoin us for an exclusive session led by some of the area's top experts\, where we address key challenges and opportunities for businesses like yours:\n\nStruggling with Marketing Ideas?\n\nDiscover innovative marketing strategies tailored to your business that will elevate your brand and boost visibility.\n\nAre you having difficulty Identifying Your Customer Base?\n\nRefine your target audience strategy to better understand and connect with your customers\, leading to increased satisfaction and loyalty.\n\nDo you have Lead Generation and Conversion Struggles?\n\nLearn proven techniques to generate leads effectively and enhance your conversion rates\, turning prospects into loyal customers.\n\nAre there Diversity\, Equity\, and Inclusion challenges in the Workplace?\n\nAddress and overcome challenges related to DEI\, fostering an inclusive workplace that contributes to both employee satisfaction and business success.\n\nAre you having difficulty Attracting Funders?\n\nGain insights into attracting funders and investors to fuel your business growth\, turning your vision into a reality.\n\nDo you require assistance in understanding how AI can contribute to monetizing your business?\n\nDemystify the world of AI and discover how it can not only drive growth but also monetize your business for long-term success.\n\nAnd\, do you have an Estate Plan and Exit Strategy for your business?\n\nJoin us for these insightful sessions and take crucial steps toward the success of your business.\n\nDon't miss this opportunity to excel in today's dynamic business landscape. Empower your business now!\n\nThis event is Free! Participants will be treated to a complimentary continental breakfast and lunch. Additionally\, you'll have the chance to connect with fellow entrepreneurs who share similar goals and aspirations!
X-ALT-DESC;FMTTYPE=text/html:<p>Unlock Your Business Potential with Our Strategic Growth Consultation!</p>\n\n<p>Join us for an exclusive session led by some of the area&#39\;s top experts\, where we address key challenges and opportunities for businesses like yours:</p>\n\n<p><strong>Struggling with Marketing Ideas?</strong><br />\nDiscover innovative marketing strategies tailored to your business that will elevate your brand and boost visibility.</p>\n\n<p><strong>Are you having difficulty&nbsp\;</strong><strong>Identifying Your Customer Base?</strong><br />\nRefine your target audience strategy to better understand and connect with your customers\, leading to increased satisfaction and loyalty.</p>\n\n<p><strong>Do you have</strong>&nbsp\;<strong>Lead Generation and Conversion Struggles?</strong><br />\nLearn proven techniques to generate leads effectively and enhance your conversion rates\, turning prospects into loyal customers.</p>\n\n<p><strong>Are there&nbsp\;</strong><strong>Diversity\, Equity\, and Inclusion challenges in the Workplace?</strong><br />\nAddress and overcome challenges related to DEI\, fostering an inclusive workplace that contributes to both employee satisfaction and business success.</p>\n\n<p><strong>Are you having difficulty&nbsp\;</strong><strong>Attracting Funders?</strong><br />\nGain insights into attracting funders and investors to fuel your business growth\, turning your vision into a reality.</p>\n\n<p><strong>Do you require assistance in understanding how AI can contribute to monetizing your business?</strong><br />\nDemystify the world of AI and discover how it can not only drive growth but also monetize your business for long-term success.</p>\n\n<p><strong>And\, do you have an Estate Plan and Exit Strategy for your business?</strong></p>\n\n<p>Join us for these insightful sessions and take crucial steps toward the success of your business.</p>\n\n<p>Don&#39\;t miss this opportunity to excel in today&#39\;s dynamic business landscape. Empower your business now!</p>\n\n<p>This event is Free! Participants will be treated to a complimentary continental breakfast and lunch. Additionally\, you&#39\;ll have the chance to connect with fellow entrepreneurs who share similar goals and aspirations!</p>\n
LOCATION:Vance-Granville Community College Civic Center (Main Campus) 200 Community College Road Building 9 Henderson\, NC 27536
UID:e.3107.5070
SEQUENCE:3
DTSTAMP:20260420T035248Z
URL:https://members.granville-chamber.com/events/details/the-entrepreneuvate-summit-5070
END:VEVENT

END:VCALENDAR
