BEGIN:VCALENDAR
VERSION:2.0
PRODID:-//ChamberMaster//Event Calendar 2.0//EN
METHOD:PUBLISH
X-PUBLISHED-TTL:P3D
REFRESH-INTERVAL:P3D
CALSCALE:GREGORIAN
BEGIN:VEVENT
DTSTART:20190803T220000Z
DTEND:20190804T010000Z
X-MICROSOFT-CDO-ALLDAYEVENT:FALSE
SUMMARY:Tobacco Wood Brewery - Steven Compton (live music)
DESCRIPTION:FMI:  tobaccowoodbrewingco@gmail.com
X-ALT-DESC;FMTTYPE=text/html:FMI:&nbsp\; tobaccowoodbrewingco@gmail.com
LOCATION:
UID:e.3107.2180
SEQUENCE:3
DTSTAMP:20260422T135106Z
URL:https://members.granville-chamber.com/events/details/tobacco-wood-brewery-steven-compton-live-music-2180
END:VEVENT

END:VCALENDAR
